BEGIN:VCALENDAR
VERSION:2.0
CALSCALE:GREGORIAN
PRODID:iCalendar-Ruby
BEGIN:VEVENT
CATEGORIES:Ticket Offer
DESCRIPTION:The story of Penelope and Circe alternates between the myths of
  their relationships with Odysseus in The Odyssey and present day reality o
 f living in pandemic times\, exploring what this means for those who face s
 exual violence. Be transported from the modern Zoom world into fantastical 
 Ancient Greece\, with beautiful 3D environments created by the powerful gam
 ing platform Unreal Engine.\n\nIn this final installment of White Snake Pro
 jects’ critically acclaimed Pandemic Trilogy of virtual operas\, opera make
 r Cerise Lim Jacobs teams up with composer and interdisciplinary artist Mar
 y Prescott and director Elena Araoz to help these characters reclaim their 
 stories.\n\n \n\nCONTENT NOTE: This piece contains depictions of sexual vio
 lence and domestic violence\, and it also focuses on trauma. Please know th
 at support is available at barcc.org/chat\, and please practice any form of
  self-care that keeps you safe.
DTEND:20210925T003000Z
DTSTAMP:20211020T025148Z
DTSTART:20210924T233000Z
LOCATION:
SEQUENCE:0
SUMMARY:TICKET OFFER: A Survivor’s Odyssey: The Journey of Penelope and Cir
 ce
UID:tag:localist.com\,2008:EventInstance_37829219476894
URL:https://events.dramatistsguild.com/event/a_survivors_odyssey_the_journe
 y_of_penelope_and_circe
END:VEVENT
BEGIN:VEVENT
CATEGORIES:Ticket Offer
DESCRIPTION:The story of Penelope and Circe alternates between the myths of
  their relationships with Odysseus in The Odyssey and present day reality o
 f living in pandemic times\, exploring what this means for those who face s
 exual violence. Be transported from the modern Zoom world into fantastical 
 Ancient Greece\, with beautiful 3D environments created by the powerful gam
 ing platform Unreal Engine.\n\nIn this final installment of White Snake Pro
 jects’ critically acclaimed Pandemic Trilogy of virtual operas\, opera make
 r Cerise Lim Jacobs teams up with composer and interdisciplinary artist Mar
 y Prescott and director Elena Araoz to help these characters reclaim their 
 stories.\n\n \n\nCONTENT NOTE: This piece contains depictions of sexual vio
 lence and domestic violence\, and it also focuses on trauma. Please know th
 at support is available at barcc.org/chat\, and please practice any form of
  self-care that keeps you safe.
DTEND:20210927T003000Z
DTSTAMP:20211020T025148Z
DTSTART:20210926T233000Z
LOCATION:
SEQUENCE:0
SUMMARY:TICKET OFFER: A Survivor’s Odyssey: The Journey of Penelope and Cir
 ce
UID:tag:localist.com\,2008:EventInstance_37829219478943
URL:https://events.dramatistsguild.com/event/a_survivors_odyssey_the_journe
 y_of_penelope_and_circe
END:VEVENT
BEGIN:VEVENT
CATEGORIES:Ticket Offer
DESCRIPTION:The story of Penelope and Circe alternates between the myths of
  their relationships with Odysseus in The Odyssey and present day reality o
 f living in pandemic times\, exploring what this means for those who face s
 exual violence. Be transported from the modern Zoom world into fantastical 
 Ancient Greece\, with beautiful 3D environments created by the powerful gam
 ing platform Unreal Engine.\n\nIn this final installment of White Snake Pro
 jects’ critically acclaimed Pandemic Trilogy of virtual operas\, opera make
 r Cerise Lim Jacobs teams up with composer and interdisciplinary artist Mar
 y Prescott and director Elena Araoz to help these characters reclaim their 
 stories.\n\n \n\nCONTENT NOTE: This piece contains depictions of sexual vio
 lence and domestic violence\, and it also focuses on trauma. Please know th
 at support is available at barcc.org/chat\, and please practice any form of
  self-care that keeps you safe.
DTEND:20210929T003000Z
DTSTAMP:20211020T025148Z
DTSTART:20210928T233000Z
LOCATION:
SEQUENCE:0
SUMMARY:TICKET OFFER: A Survivor’s Odyssey: The Journey of Penelope and Cir
 ce
UID:tag:localist.com\,2008:EventInstance_37829219479968
URL:https://events.dramatistsguild.com/event/a_survivors_odyssey_the_journe
 y_of_penelope_and_circe
END:VEVENT
END:VCALENDAR
