BEGIN:VCALENDAR
VERSION:2.0
CALSCALE:GREGORIAN
PRODID:iCalendar-Ruby
BEGIN:VEVENT
CATEGORIES:Actors Fund- Wellness
DESCRIPTION:This seminar\, tailored for senior citizens\, helps participant
 s better understand the affordable housing landscape and get organized and 
 prepared to take advantage of opportunities to apply. While much of the con
 tent is similar to the Applying for Affordable Housing seminar\, which is i
 ntended for the general population\, this seminar focuses on information th
 at will be most relevant for older adults in NYC including senior-specific 
 housing programs. The application process is explained in simple steps that
  help applicants avoid common mistakes. Information regarding assessing you
 r income\, eligibility criteria\, and documentation is discussed to address
  the specific needs of the performing arts and entertainment community. In 
 addition to general  information about affordable housing\, information is 
 also provided about The Actors Fund housing for performing arts professiona
 ls.\n\n \n\nRSVP: via Eventbrite or call 212.221.7300 ext. 279\n\n \n\nLOCA
 TION: \n\nOnline via Zoom - Once you RSVP on Eventbrite\, you will receive 
 a link to join the online Zoom meeting before the event.\n\n \n\nCONTACT EM
 AIL: housing@actorsfund.org\n\n \n\nDATES: \n\nThursday\, Sep 16\, 2021\, 3
 :30 pm – 5:00 pm\n\nThursday\, Oct 21\, 2021\, 3:30 pm – 5:00 pm\n\nThursda
 y\, Nov 18\, 2021\, 3:30 pm – 5:00 pm\n\nThursday\, Dec 16\, 2021\, 3:30 pm
  – 5:00 pm
DTEND:20211021T210000Z
DTSTAMP:20211020T144025Z
DTSTART:20211021T193000Z
LOCATION:
SEQUENCE:0
SUMMARY:Affordable Housing for Seniors (NYC)
UID:tag:localist.com\,2008:EventInstance_37811264484021
URL:https://events.dramatistsguild.com/event/affordable_housing_for_seniors
 _nyc
END:VEVENT
BEGIN:VEVENT
CATEGORIES:Actors Fund- Wellness
DESCRIPTION:This seminar\, tailored for senior citizens\, helps participant
 s better understand the affordable housing landscape and get organized and 
 prepared to take advantage of opportunities to apply. While much of the con
 tent is similar to the Applying for Affordable Housing seminar\, which is i
 ntended for the general population\, this seminar focuses on information th
 at will be most relevant for older adults in NYC including senior-specific 
 housing programs. The application process is explained in simple steps that
  help applicants avoid common mistakes. Information regarding assessing you
 r income\, eligibility criteria\, and documentation is discussed to address
  the specific needs of the performing arts and entertainment community. In 
 addition to general  information about affordable housing\, information is 
 also provided about The Actors Fund housing for performing arts professiona
 ls.\n\n \n\nRSVP: via Eventbrite or call 212.221.7300 ext. 279\n\n \n\nLOCA
 TION: \n\nOnline via Zoom - Once you RSVP on Eventbrite\, you will receive 
 a link to join the online Zoom meeting before the event.\n\n \n\nCONTACT EM
 AIL: housing@actorsfund.org\n\n \n\nDATES: \n\nThursday\, Sep 16\, 2021\, 3
 :30 pm – 5:00 pm\n\nThursday\, Oct 21\, 2021\, 3:30 pm – 5:00 pm\n\nThursda
 y\, Nov 18\, 2021\, 3:30 pm – 5:00 pm\n\nThursday\, Dec 16\, 2021\, 3:30 pm
  – 5:00 pm
DTEND:20211118T220000Z
DTSTAMP:20211020T144025Z
DTSTART:20211118T203000Z
LOCATION:
SEQUENCE:0
SUMMARY:Affordable Housing for Seniors (NYC)
UID:tag:localist.com\,2008:EventInstance_37811264486070
URL:https://events.dramatistsguild.com/event/affordable_housing_for_seniors
 _nyc
END:VEVENT
BEGIN:VEVENT
CATEGORIES:Actors Fund- Wellness
DESCRIPTION:This seminar\, tailored for senior citizens\, helps participant
 s better understand the affordable housing landscape and get organized and 
 prepared to take advantage of opportunities to apply. While much of the con
 tent is similar to the Applying for Affordable Housing seminar\, which is i
 ntended for the general population\, this seminar focuses on information th
 at will be most relevant for older adults in NYC including senior-specific 
 housing programs. The application process is explained in simple steps that
  help applicants avoid common mistakes. Information regarding assessing you
 r income\, eligibility criteria\, and documentation is discussed to address
  the specific needs of the performing arts and entertainment community. In 
 addition to general  information about affordable housing\, information is 
 also provided about The Actors Fund housing for performing arts professiona
 ls.\n\n \n\nRSVP: via Eventbrite or call 212.221.7300 ext. 279\n\n \n\nLOCA
 TION: \n\nOnline via Zoom - Once you RSVP on Eventbrite\, you will receive 
 a link to join the online Zoom meeting before the event.\n\n \n\nCONTACT EM
 AIL: housing@actorsfund.org\n\n \n\nDATES: \n\nThursday\, Sep 16\, 2021\, 3
 :30 pm – 5:00 pm\n\nThursday\, Oct 21\, 2021\, 3:30 pm – 5:00 pm\n\nThursda
 y\, Nov 18\, 2021\, 3:30 pm – 5:00 pm\n\nThursday\, Dec 16\, 2021\, 3:30 pm
  – 5:00 pm
DTEND:20211216T220000Z
DTSTAMP:20211020T144025Z
DTSTART:20211216T203000Z
LOCATION:
SEQUENCE:0
SUMMARY:Affordable Housing for Seniors (NYC)
UID:tag:localist.com\,2008:EventInstance_37811264487095
URL:https://events.dramatistsguild.com/event/affordable_housing_for_seniors
 _nyc
END:VEVENT
END:VCALENDAR
