BEGIN:VCALENDAR
VERSION:2.0
CALSCALE:GREGORIAN
PRODID:iCalendar-Ruby
BEGIN:VEVENT
CATEGORIES:Actors Fund- Wellness
DESCRIPTION:Are you looking for a new place to live? Do you need to leave y
 our current housing? During the pandemic\, do you need updates on critical 
 housing issues like evictions\, mortgage payments\, utilities\, and rent? C
 heck out our new Housing Seminar that helps you navigate the current housin
 g and sublet market in New York City. The following topics will be addresse
 d:\n\n \n\nHow much can you afford to pay in rent?Affordable New York neigh
 borhoodsThe basics of leases and rental agreementsResources to help you fin
 d apartments\, room rentals and subletsWhat you can do today to get organiz
 ed \n\nNote: This seminar focuses on unsubsidized housing\, room shares\, a
 nd sublets. If you’re looking to learn more about applying for subsidized h
 ousing\, please attend the “Applying to Affordable Housing in NYC” seminar.
 \n\n \n\nRSVP: via Eventbrite\n\nLOCATION: Online via Zoom - Once you RSVP 
 on eventrbite\, you can expect to receive a link to join the online Zoom me
 eting at least 24 hrs before the event. We will also resend the link just b
 efore the event. \n\n \n\nATTENDANCE RULES: RSVP required \n\nCONTACT EMAIL
 : housing@actorsfund.org\n\n \n\nDATES: \n\nFriday\, Sep 10\, 2021\, 10:00 
 am – 12:00 pm\n\nFriday\, Oct 08\, 2021\, 10:00 am – 12:00 pm\n\nFriday\, N
 ov 12\, 2021\, 10:00 am – 12:00 pm\n\nFriday\, Dec 10\, 2021\, 10:00 am – 1
 2:00 pm
DTEND:20210910T160000Z
DTSTAMP:20211020T024551Z
DTSTART:20210910T140000Z
LOCATION:
SEQUENCE:0
SUMMARY:Apartment Hunting 101: Strategies for Finding Housing in NYC
UID:tag:localist.com\,2008:EventInstance_37784334854927
URL:https://events.dramatistsguild.com/event/apartment_hunting_101_strategi
 es_for_finding_housing_in_nyc
END:VEVENT
BEGIN:VEVENT
CATEGORIES:Actors Fund- Wellness
DESCRIPTION:Are you looking for a new place to live? Do you need to leave y
 our current housing? During the pandemic\, do you need updates on critical 
 housing issues like evictions\, mortgage payments\, utilities\, and rent? C
 heck out our new Housing Seminar that helps you navigate the current housin
 g and sublet market in New York City. The following topics will be addresse
 d:\n\n \n\nHow much can you afford to pay in rent?Affordable New York neigh
 borhoodsThe basics of leases and rental agreementsResources to help you fin
 d apartments\, room rentals and subletsWhat you can do today to get organiz
 ed \n\nNote: This seminar focuses on unsubsidized housing\, room shares\, a
 nd sublets. If you’re looking to learn more about applying for subsidized h
 ousing\, please attend the “Applying to Affordable Housing in NYC” seminar.
 \n\n \n\nRSVP: via Eventbrite\n\nLOCATION: Online via Zoom - Once you RSVP 
 on eventrbite\, you can expect to receive a link to join the online Zoom me
 eting at least 24 hrs before the event. We will also resend the link just b
 efore the event. \n\n \n\nATTENDANCE RULES: RSVP required \n\nCONTACT EMAIL
 : housing@actorsfund.org\n\n \n\nDATES: \n\nFriday\, Sep 10\, 2021\, 10:00 
 am – 12:00 pm\n\nFriday\, Oct 08\, 2021\, 10:00 am – 12:00 pm\n\nFriday\, N
 ov 12\, 2021\, 10:00 am – 12:00 pm\n\nFriday\, Dec 10\, 2021\, 10:00 am – 1
 2:00 pm
DTEND:20211008T160000Z
DTSTAMP:20211020T024551Z
DTSTART:20211008T140000Z
LOCATION:
SEQUENCE:0
SUMMARY:Apartment Hunting 101: Strategies for Finding Housing in NYC
UID:tag:localist.com\,2008:EventInstance_37784334855952
URL:https://events.dramatistsguild.com/event/apartment_hunting_101_strategi
 es_for_finding_housing_in_nyc
END:VEVENT
BEGIN:VEVENT
CATEGORIES:Actors Fund- Wellness
DESCRIPTION:Are you looking for a new place to live? Do you need to leave y
 our current housing? During the pandemic\, do you need updates on critical 
 housing issues like evictions\, mortgage payments\, utilities\, and rent? C
 heck out our new Housing Seminar that helps you navigate the current housin
 g and sublet market in New York City. The following topics will be addresse
 d:\n\n \n\nHow much can you afford to pay in rent?Affordable New York neigh
 borhoodsThe basics of leases and rental agreementsResources to help you fin
 d apartments\, room rentals and subletsWhat you can do today to get organiz
 ed \n\nNote: This seminar focuses on unsubsidized housing\, room shares\, a
 nd sublets. If you’re looking to learn more about applying for subsidized h
 ousing\, please attend the “Applying to Affordable Housing in NYC” seminar.
 \n\n \n\nRSVP: via Eventbrite\n\nLOCATION: Online via Zoom - Once you RSVP 
 on eventrbite\, you can expect to receive a link to join the online Zoom me
 eting at least 24 hrs before the event. We will also resend the link just b
 efore the event. \n\n \n\nATTENDANCE RULES: RSVP required \n\nCONTACT EMAIL
 : housing@actorsfund.org\n\n \n\nDATES: \n\nFriday\, Sep 10\, 2021\, 10:00 
 am – 12:00 pm\n\nFriday\, Oct 08\, 2021\, 10:00 am – 12:00 pm\n\nFriday\, N
 ov 12\, 2021\, 10:00 am – 12:00 pm\n\nFriday\, Dec 10\, 2021\, 10:00 am – 1
 2:00 pm
DTEND:20211112T170000Z
DTSTAMP:20211020T024551Z
DTSTART:20211112T150000Z
LOCATION:
SEQUENCE:0
SUMMARY:Apartment Hunting 101: Strategies for Finding Housing in NYC
UID:tag:localist.com\,2008:EventInstance_37784334858001
URL:https://events.dramatistsguild.com/event/apartment_hunting_101_strategi
 es_for_finding_housing_in_nyc
END:VEVENT
BEGIN:VEVENT
CATEGORIES:Actors Fund- Wellness
DESCRIPTION:Are you looking for a new place to live? Do you need to leave y
 our current housing? During the pandemic\, do you need updates on critical 
 housing issues like evictions\, mortgage payments\, utilities\, and rent? C
 heck out our new Housing Seminar that helps you navigate the current housin
 g and sublet market in New York City. The following topics will be addresse
 d:\n\n \n\nHow much can you afford to pay in rent?Affordable New York neigh
 borhoodsThe basics of leases and rental agreementsResources to help you fin
 d apartments\, room rentals and subletsWhat you can do today to get organiz
 ed \n\nNote: This seminar focuses on unsubsidized housing\, room shares\, a
 nd sublets. If you’re looking to learn more about applying for subsidized h
 ousing\, please attend the “Applying to Affordable Housing in NYC” seminar.
 \n\n \n\nRSVP: via Eventbrite\n\nLOCATION: Online via Zoom - Once you RSVP 
 on eventrbite\, you can expect to receive a link to join the online Zoom me
 eting at least 24 hrs before the event. We will also resend the link just b
 efore the event. \n\n \n\nATTENDANCE RULES: RSVP required \n\nCONTACT EMAIL
 : housing@actorsfund.org\n\n \n\nDATES: \n\nFriday\, Sep 10\, 2021\, 10:00 
 am – 12:00 pm\n\nFriday\, Oct 08\, 2021\, 10:00 am – 12:00 pm\n\nFriday\, N
 ov 12\, 2021\, 10:00 am – 12:00 pm\n\nFriday\, Dec 10\, 2021\, 10:00 am – 1
 2:00 pm
DTEND:20211210T170000Z
DTSTAMP:20211020T024551Z
DTSTART:20211210T150000Z
LOCATION:
SEQUENCE:0
SUMMARY:Apartment Hunting 101: Strategies for Finding Housing in NYC
UID:tag:localist.com\,2008:EventInstance_37784334859026
URL:https://events.dramatistsguild.com/event/apartment_hunting_101_strategi
 es_for_finding_housing_in_nyc
END:VEVENT
END:VCALENDAR
