BEGIN:VCALENDAR
VERSION:2.0
CALSCALE:GREGORIAN
PRODID:iCalendar-Ruby
BEGIN:VEVENT
CATEGORIES:Actors Fund- Financial
DESCRIPTION:A single-session workshop focused on identifying financial goal
 s and getting specific about the flow of money in our lives. Participants w
 ill learn simple strategies for tracking income and expenses in a way that 
 makes sense for performing arts and entertainment industry professionals wh
 o don’t always earn and spend the same way each month\, and get connected w
 ith resources and an action plan to take the next step.\n\n \n\nRSVP: Regis
 ter via Eventbrite\n\n \n\nLOCATION: ***Until further notice this event wil
 l be conducted virtually (online) only. ***\nParticipants must RSVP via Eve
 ntbrite to receive the zoom link.  The link will be emailed to you the morn
 ing of the workshop.\n\n \n\nPREREQUISITE: Registration via Eventbrite is r
 equired.\nPlease note:  Budgeting Nuts & Bolts is the prerequisite to parti
 cipate in the Managing Cash Flow course.\n\n \n\nATTENDANCE RULES: Registra
 tion via Eventbrite required. This workshop is free\, confidential\, and op
 en to all professionals in performing arts and entertainment.\n\n \n\nCONTA
 CT NAME: Samarah Blackmon\n\nCONTACT EMAIL: sblackmon@actorsfund.org\n\n \n
 \nRECURRENCE: This workshop is held on the first Thursday of each month.\n\
 n \n\nDATES: \n\nThursday\, Oct 07\, 2021\, 1:00 pm – 3:00 pm\n\nThursday\,
  Nov 04\, 2021\, 1:00 pm – 3:00 pm\n\nThursday\, Dec 02\, 2021\, 1:00 pm – 
 3:00 pm
DTEND:20211007T190000Z
DTSTAMP:20211020T024542Z
DTSTART:20211007T170000Z
LOCATION:
SEQUENCE:0
SUMMARY:Budgeting Nuts and Bolts- Thursdays
UID:tag:localist.com\,2008:EventInstance_37784171428986
URL:https://events.dramatistsguild.com/event/budgeting_nuts_and_bolts-_thur
 sdays
END:VEVENT
BEGIN:VEVENT
CATEGORIES:Actors Fund- Financial
DESCRIPTION:A single-session workshop focused on identifying financial goal
 s and getting specific about the flow of money in our lives. Participants w
 ill learn simple strategies for tracking income and expenses in a way that 
 makes sense for performing arts and entertainment industry professionals wh
 o don’t always earn and spend the same way each month\, and get connected w
 ith resources and an action plan to take the next step.\n\n \n\nRSVP: Regis
 ter via Eventbrite\n\n \n\nLOCATION: ***Until further notice this event wil
 l be conducted virtually (online) only. ***\nParticipants must RSVP via Eve
 ntbrite to receive the zoom link.  The link will be emailed to you the morn
 ing of the workshop.\n\n \n\nPREREQUISITE: Registration via Eventbrite is r
 equired.\nPlease note:  Budgeting Nuts & Bolts is the prerequisite to parti
 cipate in the Managing Cash Flow course.\n\n \n\nATTENDANCE RULES: Registra
 tion via Eventbrite required. This workshop is free\, confidential\, and op
 en to all professionals in performing arts and entertainment.\n\n \n\nCONTA
 CT NAME: Samarah Blackmon\n\nCONTACT EMAIL: sblackmon@actorsfund.org\n\n \n
 \nRECURRENCE: This workshop is held on the first Thursday of each month.\n\
 n \n\nDATES: \n\nThursday\, Oct 07\, 2021\, 1:00 pm – 3:00 pm\n\nThursday\,
  Nov 04\, 2021\, 1:00 pm – 3:00 pm\n\nThursday\, Dec 02\, 2021\, 1:00 pm – 
 3:00 pm
DTEND:20211104T190000Z
DTSTAMP:20211020T024542Z
DTSTART:20211104T170000Z
LOCATION:
SEQUENCE:0
SUMMARY:Budgeting Nuts and Bolts- Thursdays
UID:tag:localist.com\,2008:EventInstance_37784171430011
URL:https://events.dramatistsguild.com/event/budgeting_nuts_and_bolts-_thur
 sdays
END:VEVENT
BEGIN:VEVENT
CATEGORIES:Actors Fund- Financial
DESCRIPTION:A single-session workshop focused on identifying financial goal
 s and getting specific about the flow of money in our lives. Participants w
 ill learn simple strategies for tracking income and expenses in a way that 
 makes sense for performing arts and entertainment industry professionals wh
 o don’t always earn and spend the same way each month\, and get connected w
 ith resources and an action plan to take the next step.\n\n \n\nRSVP: Regis
 ter via Eventbrite\n\n \n\nLOCATION: ***Until further notice this event wil
 l be conducted virtually (online) only. ***\nParticipants must RSVP via Eve
 ntbrite to receive the zoom link.  The link will be emailed to you the morn
 ing of the workshop.\n\n \n\nPREREQUISITE: Registration via Eventbrite is r
 equired.\nPlease note:  Budgeting Nuts & Bolts is the prerequisite to parti
 cipate in the Managing Cash Flow course.\n\n \n\nATTENDANCE RULES: Registra
 tion via Eventbrite required. This workshop is free\, confidential\, and op
 en to all professionals in performing arts and entertainment.\n\n \n\nCONTA
 CT NAME: Samarah Blackmon\n\nCONTACT EMAIL: sblackmon@actorsfund.org\n\n \n
 \nRECURRENCE: This workshop is held on the first Thursday of each month.\n\
 n \n\nDATES: \n\nThursday\, Oct 07\, 2021\, 1:00 pm – 3:00 pm\n\nThursday\,
  Nov 04\, 2021\, 1:00 pm – 3:00 pm\n\nThursday\, Dec 02\, 2021\, 1:00 pm – 
 3:00 pm
DTEND:20211202T200000Z
DTSTAMP:20211020T024542Z
DTSTART:20211202T180000Z
LOCATION:
SEQUENCE:0
SUMMARY:Budgeting Nuts and Bolts- Thursdays
UID:tag:localist.com\,2008:EventInstance_37784171432060
URL:https://events.dramatistsguild.com/event/budgeting_nuts_and_bolts-_thur
 sdays
END:VEVENT
END:VCALENDAR
