BEGIN:VCALENDAR
VERSION:2.0
CALSCALE:GREGORIAN
PRODID:iCalendar-Ruby
BEGIN:VEVENT
CATEGORIES:Actors Fund- Career
DESCRIPTION:Please note your time zone: 10:00am-12:30PM PT / 12:00-2:30PM C
 T/ 1:00-3:30PM ET\n\n \n\nPREREQUISITE: Must have attended The Career Cente
 r Orientation | Weekly on Mondays & Thursdays\n\n \n\nUnsure of how to arti
 culate the variety of things you do in your art/work life authentically thr
 ough your LinkedIn summary? Would you like to discover a simple formula for
  telling a holistic story that captures the attention of your audience?\n\n
  \n\nIn this 3-day intensive\, you will:\n\n Discuss the 3 Cs of engaging a
 n audience in your story\n\n Clarify the purpose statement that unifies you
 r multi-faceted career\n\n Identify the super powers that make you stand ou
 t from the crowd\n\n Curate the experiences you share to create a compellin
 g narrative\n\nThis workshop will be exercise intensive—so please come prep
 are to help one another!\n\n*The training is THREE sessions long - RSVP onl
 y if you are able to attend all dates 9/13\, 9/20 and 9/27.\n\n \n\nRSVP: v
 ia Zoom\n\n \n\nLOCATION: Zoom\n\n \n\nATTENDANCE RULES: \n\nClass will beg
 in at the scheduled time\, so please be prompt. Log in a few minutes early 
 to ensure your device is operational.\n\n \n\nCONTACT EMAIL: careercenterwe
 st@actorsfund.org\n\n \n\nDATES: \n\nMonday\, Sep 13\, 2021\, 10:00 am – 12
 :30 pm\n\nMonday\, Sep 20\, 2021\, 10:00 am – 12:30 pm\n\nMonday\, Sep 27\,
  2021\, 10:00 am – 12:30 pm
DTEND:20210913T163000Z
DTSTAMP:20211020T025046Z
DTSTART:20210913T140000Z
LOCATION:
SEQUENCE:0
SUMMARY:Creative Career Storytelling: Engaging Your Audience
UID:tag:localist.com\,2008:EventInstance_37784641226268
URL:https://events.dramatistsguild.com/event/creative_career_storytelling_e
 ngaging_your_audience
END:VEVENT
BEGIN:VEVENT
CATEGORIES:Actors Fund- Career
DESCRIPTION:Please note your time zone: 10:00am-12:30PM PT / 12:00-2:30PM C
 T/ 1:00-3:30PM ET\n\n \n\nPREREQUISITE: Must have attended The Career Cente
 r Orientation | Weekly on Mondays & Thursdays\n\n \n\nUnsure of how to arti
 culate the variety of things you do in your art/work life authentically thr
 ough your LinkedIn summary? Would you like to discover a simple formula for
  telling a holistic story that captures the attention of your audience?\n\n
  \n\nIn this 3-day intensive\, you will:\n\n Discuss the 3 Cs of engaging a
 n audience in your story\n\n Clarify the purpose statement that unifies you
 r multi-faceted career\n\n Identify the super powers that make you stand ou
 t from the crowd\n\n Curate the experiences you share to create a compellin
 g narrative\n\nThis workshop will be exercise intensive—so please come prep
 are to help one another!\n\n*The training is THREE sessions long - RSVP onl
 y if you are able to attend all dates 9/13\, 9/20 and 9/27.\n\n \n\nRSVP: v
 ia Zoom\n\n \n\nLOCATION: Zoom\n\n \n\nATTENDANCE RULES: \n\nClass will beg
 in at the scheduled time\, so please be prompt. Log in a few minutes early 
 to ensure your device is operational.\n\n \n\nCONTACT EMAIL: careercenterwe
 st@actorsfund.org\n\n \n\nDATES: \n\nMonday\, Sep 13\, 2021\, 10:00 am – 12
 :30 pm\n\nMonday\, Sep 20\, 2021\, 10:00 am – 12:30 pm\n\nMonday\, Sep 27\,
  2021\, 10:00 am – 12:30 pm
DTEND:20210920T163000Z
DTSTAMP:20211020T025046Z
DTSTART:20210920T140000Z
LOCATION:
SEQUENCE:0
SUMMARY:Creative Career Storytelling: Engaging Your Audience
UID:tag:localist.com\,2008:EventInstance_37784641228317
URL:https://events.dramatistsguild.com/event/creative_career_storytelling_e
 ngaging_your_audience
END:VEVENT
BEGIN:VEVENT
CATEGORIES:Actors Fund- Career
DESCRIPTION:Please note your time zone: 10:00am-12:30PM PT / 12:00-2:30PM C
 T/ 1:00-3:30PM ET\n\n \n\nPREREQUISITE: Must have attended The Career Cente
 r Orientation | Weekly on Mondays & Thursdays\n\n \n\nUnsure of how to arti
 culate the variety of things you do in your art/work life authentically thr
 ough your LinkedIn summary? Would you like to discover a simple formula for
  telling a holistic story that captures the attention of your audience?\n\n
  \n\nIn this 3-day intensive\, you will:\n\n Discuss the 3 Cs of engaging a
 n audience in your story\n\n Clarify the purpose statement that unifies you
 r multi-faceted career\n\n Identify the super powers that make you stand ou
 t from the crowd\n\n Curate the experiences you share to create a compellin
 g narrative\n\nThis workshop will be exercise intensive—so please come prep
 are to help one another!\n\n*The training is THREE sessions long - RSVP onl
 y if you are able to attend all dates 9/13\, 9/20 and 9/27.\n\n \n\nRSVP: v
 ia Zoom\n\n \n\nLOCATION: Zoom\n\n \n\nATTENDANCE RULES: \n\nClass will beg
 in at the scheduled time\, so please be prompt. Log in a few minutes early 
 to ensure your device is operational.\n\n \n\nCONTACT EMAIL: careercenterwe
 st@actorsfund.org\n\n \n\nDATES: \n\nMonday\, Sep 13\, 2021\, 10:00 am – 12
 :30 pm\n\nMonday\, Sep 20\, 2021\, 10:00 am – 12:30 pm\n\nMonday\, Sep 27\,
  2021\, 10:00 am – 12:30 pm
DTEND:20210927T163000Z
DTSTAMP:20211020T025046Z
DTSTART:20210927T140000Z
LOCATION:
SEQUENCE:0
SUMMARY:Creative Career Storytelling: Engaging Your Audience
UID:tag:localist.com\,2008:EventInstance_37784641229342
URL:https://events.dramatistsguild.com/event/creative_career_storytelling_e
 ngaging_your_audience
END:VEVENT
END:VCALENDAR
