BEGIN:VCALENDAR
VERSION:2.0
CALSCALE:GREGORIAN
PRODID:iCalendar-Ruby
BEGIN:VEVENT
CATEGORIES:Estate Planning,Career Training
DESCRIPTION:Eastern Time: 3pm\nCentral Time: 2pm\nMountain Time: 1pm\nPacif
 ic Time: 12pm\n\n \n\nHave you ever considered curating your own archive?  
 What documents should be saved? What can be thrown away?  How do you find a
  home for your papers? Join Deborah Murad of DG Copyright Management for a 
 Q&A with Dr. Eric Colleary\, Cline Curator of Theatre & Performing Arts at 
 the Harry Ransom Center\, the internationally renowned humanities research 
 center at The University of Texas at Austin. Dr. Colleary will offer expert
  advice on how to preserve your legacy and reflect on his work with the Ame
 rican Theatre Archive Project.\n\n \n\nMonday\, October 18\, 2021\n\nEstate
  Planning for All\n\n \n\nMonday\, October 18\, 2021\n\nThe Legacy in Our W
 riting with Doug Wright and Emily Mann\n\n \n\nTuesday\, October 19\, 2021\
 n\nDocumenting Your Legacy\n\n \n\nWednesday\, October 20\, 2021\n\nRetirem
 ent Secrets for Creative Entrepreneurs\n\n \n\nThursday\, October 21\, 2021
 \n\nDG Copyright Management: Where You Fit In\n\n \n\nThursday\, October 21
 \, 2021\n\nLynn Nottage sits down with the Lorraine Hansberry Literary Trus
 t\n\n \n\nFriday\, October 22\, 2021\n\nA Two In One: Celebrity Lessons in 
 Estate Planning / What Every Copyright Owner Needs to Know\n\n \n\nFriday\,
  October 22\, 2021\n\nDG Copyright Management: Where You Fit In
DTSTAMP:20211020T024734Z
DTSTART;VALUE=DATE:20211019
LOCATION:
SEQUENCE:0
SUMMARY:Documenting Your Legacy
UID:tag:localist.com\,2008:EventInstance_37872313318917
URL:https://events.dramatistsguild.com/event/documenting_your_legacy
END:VEVENT
END:VCALENDAR
