BEGIN:VCALENDAR
VERSION:2.0
CALSCALE:GREGORIAN
PRODID:iCalendar-Ruby
BEGIN:VEVENT
CATEGORIES:Silent Writing
DESCRIPTION:This session will be moderated by Wisconsin DG Ambassador\, Liz
  Fentress.\n\n \n\nThursday\, October 7\, 2021\n\nEastern Time: 10:00am\nCe
 ntral Time: 9:00am\nMountain Time: 8:00am\nPacific Time: 7:00am\n\n \n\nFor
  a list of all other available Silent Writing dates and times\, click here.
 \n\n \n\nIntroducing Dramatists Guild National Silent Writing!\n\nWe unders
 tand that writing can feel like a solitary task from time to time\, which m
 ay make finding the motivation to write difficult. To assist in this\, star
 ting September 2021\, the Dramatists Guild is offering online silent writin
 g sessions available for anyone across the country to drop into at any time
 . These sessions will be hosted by our Regional Representatives\, Ambassado
 rs\, and volunteer hosts all across the country.\n\n\n \nHow does it work?\
 n\nFind a time slot that works for you and make the commitment to write for
  that period of time – sometimes simply making the commitment and setting a
 side the time to write is the most important step\;Anyone across the countr
 y can register for any time slot that they would like to - they are only or
 ganized by region to show who will be moderating during that period of time
 \;Complete registration for that time slot\;Prior to the event\, you will b
 e sent the Zoom meeting link to attend the silent writing slot of your choi
 ce\;Note: it is important not to login to the Zoom meeting outside of the s
 cheduled meeting times\, or you may disturb another meeting or regional eve
 nt in progress\;When it’s time\, click on the link to join the Zoom meeting
 \;The hosting Regional Representative\, Ambassador\, or volunteer host may 
 choose to greet those in attendance briefly and set expectations for your t
 ime together\;You will be asked to mute your microphone\;You may leave your
  camera on for gentle accountability\, or leave it off if that is more comf
 ortable to you\;Once the session has initiated – that’s it! The remainder o
 f the time is dedicated to writing silently in community with the others th
 at have logged in with you at that time\;You are welcome to use the chat fu
 nction to reach out to others in the session with you if you have any quest
 ions\, though it is at the discretion of the other participants whether or 
 not they choose to respond or take the silent time for themselves.\nMore ti
 mes and dates will be added as they become available. If you would like to 
 volunteer to host a Silent Writing session\, please fill out this form.\n\n
  \n\nJordan Stovall (they/them/theirs)\, Regional Programs Manager\n\nFind 
 Out More About the Rep and Ambassador Programs
DTEND:20211007T150000Z
DTSTAMP:20211020T024500Z
DTSTART:20211007T130000Z
LOCATION:
SEQUENCE:0
SUMMARY:Dramatists Guild National Silent Writing
UID:tag:localist.com\,2008:EventInstance_37889805554323
URL:https://events.dramatistsguild.com/event/dramatists_guild_national_sile
 nt_writing_2129
END:VEVENT
END:VCALENDAR
