BEGIN:VCALENDAR
VERSION:2.0
CALSCALE:GREGORIAN
PRODID:iCalendar-Ruby
BEGIN:VEVENT
CATEGORIES:Silent Writing
DESCRIPTION:This session will be moderated by New England West DG Regional 
 Rep\, Emma Palzere-Rae.\n\n \n\nMonday\, October 25\, 2021\n\nEastern Time:
  6:30pm\nCentral Time: 5:30pm\nMountain Time: 4:30pm\nPacific Time: 3:30pm\
 n\n \n\nFor a list of all other available Silent Writing dates and times\, 
 click here.\n\n \n\nIntroducing Dramatists Guild National Silent Writing!\n
 \nWe understand that writing can feel like a solitary task from time to tim
 e\, which may make finding the motivation to write difficult. To assist in 
 this\, starting September 2021\, the Dramatists Guild is offering online si
 lent writing sessions available for anyone across the country to drop into 
 at any time. These sessions will be hosted by our Regional Representatives\
 , Ambassadors\, and volunteer hosts all across the country.\n \n \n\nHow do
 es it work?\n\nFind a time slot that works for you and make the commitment 
 to write for that period of time – sometimes simply making the commitment a
 nd setting aside the time to write is the most important step\;Anyone acros
 s the country can register for any time slot that they would like to - they
  are only organized by region to show who will be moderating during that pe
 riod of time\;Complete registration for that time slot\;Prior to the event\
 , you will be sent the Zoom meeting link to attend the silent writing slot 
 of your choice\;Note: it is important not to login to the Zoom meeting outs
 ide of the scheduled meeting times\, or you may disturb another meeting or 
 regional event in progress\;When it’s time\, click on the link to join the 
 Zoom meeting\;The hosting Regional Representative\, Ambassador\, or volunte
 er host may choose to greet those in attendance briefly and set expectation
 s for your time together\;You will be asked to mute your microphone\;You ma
 y leave your camera on for gentle accountability\, or leave it off if that 
 is more comfortable to you\;Once the session has initiated – that’s it! The
  remainder of the time is dedicated to writing silently in community with t
 he others that have logged in with you at that time\;You are welcome to use
  the chat function to reach out to others in the session with you if you ha
 ve any questions\, though it is at the discretion of the other participants
  whether or not they choose to respond or take the silent time for themselv
 es.\nMore times and dates will be added as they become available. If you wo
 uld like to volunteer to host a Silent Writing session\, please fill out th
 is form.\n\n \n\nJordan Stovall (they/them/theirs)\, Regional Programs Mana
 ger\n\nFind Out More About the Rep and Ambassador Programs
DTEND:20211026T000000Z
DTSTAMP:20211020T024820Z
DTSTART:20211025T223000Z
LOCATION:
SEQUENCE:0
SUMMARY:Dramatists Guild National Silent Writing
UID:tag:localist.com\,2008:EventInstance_37890287506735
URL:https://events.dramatistsguild.com/event/dramatists_guild_national_sile
 nt_writing_2148
END:VEVENT
END:VCALENDAR
