BEGIN:VCALENDAR
VERSION:2.0
CALSCALE:GREGORIAN
PRODID:iCalendar-Ruby
BEGIN:VEVENT
CATEGORIES:Silent Writing
DESCRIPTION:This session will be moderated by Boston DG Ambassador\, John M
 inigan.\n\n \n\nSunday\, October 31\, 2021\n\nEastern Time: 10:00am\nCentra
 l Time: 9:00am\nMountain Time: 8:00am\nPacific Time: 7:00am\n\n \n\nFor a l
 ist of all other available Silent Writing dates and times\, click here.\n\n
  \n\nIntroducing Dramatists Guild National Silent Writing!\n\nWe understand
  that writing can feel like a solitary task from time to time\, which may m
 ake finding the motivation to write difficult. To assist in this\, starting
  September 2021\, the Dramatists Guild is offering online silent writing se
 ssions available for anyone across the country to drop into at any time. Th
 ese sessions will be hosted by our Regional Representatives\, Ambassadors\,
  and volunteer hosts all across the country.\n \n \n\nHow does it work?\n\n
 Find a time slot that works for you and make the commitment to write for th
 at period of time – sometimes simply making the commitment and setting asid
 e the time to write is the most important step\;Anyone across the country c
 an register for any time slot that they would like to - they are only organ
 ized by region to show who will be moderating during that period of time\;C
 omplete registration for that time slot\;Prior to the event\, you will be s
 ent the Zoom meeting link to attend the silent writing slot of your choice\
 ;Note: it is important not to login to the Zoom meeting outside of the sche
 duled meeting times\, or you may disturb another meeting or regional event 
 in progress\;When it’s time\, click on the link to join the Zoom meeting\;T
 he hosting Regional Representative\, Ambassador\, or volunteer host may cho
 ose to greet those in attendance briefly and set expectations for your time
  together\;You will be asked to mute your microphone\;You may leave your ca
 mera on for gentle accountability\, or leave it off if that is more comfort
 able to you\;Once the session has initiated – that’s it! The remainder of t
 he time is dedicated to writing silently in community with the others that 
 have logged in with you at that time\;You are welcome to use the chat funct
 ion to reach out to others in the session with you if you have any question
 s\, though it is at the discretion of the other participants whether or not
  they choose to respond or take the silent time for themselves.\nMore times
  and dates will be added as they become available. If you would like to vol
 unteer to host a Silent Writing session\, please fill out this form.\n\n \n
 \nJordan Stovall (they/them/theirs)\, Regional Programs Manager\n\nFind Out
  More About the Rep and Ambassador Programs
DTEND:20211031T160000Z
DTSTAMP:20211020T024846Z
DTSTART:20211031T140000Z
LOCATION:
SEQUENCE:0
SUMMARY:Dramatists Guild National Silent Writing
UID:tag:localist.com\,2008:EventInstance_37890271729423
URL:https://events.dramatistsguild.com/event/dramatists_guild_national_sile
 nt_writing_3414
END:VEVENT
END:VCALENDAR
