BEGIN:VCALENDAR
VERSION:2.0
CALSCALE:GREGORIAN
PRODID:iCalendar-Ruby
BEGIN:VEVENT
CATEGORIES:Silent Writing
DESCRIPTION:This session will be moderated by Twin Cities DG Regional Rep\,
  Eric "Pogi" Sumangil.\n\n \n\nSaturday\, October 23\, 2021\n\nEastern Time
 : 11:00am\nCentral Time: 10:00am\nMountain Time: 9:00am\nPacific Time: 8:00
 am\n\n \n\nFor a list of all other available Silent Writing dates and times
 \, click here.\n\n \n\nIntroducing Dramatists Guild National Silent Writing
 !\n\nWe understand that writing can feel like a solitary task from time to 
 time\, which may make finding the motivation to write difficult. To assist 
 in this\, starting September 2021\, the Dramatists Guild is offering online
  silent writing sessions available for anyone across the country to drop in
 to at any time. These sessions will be hosted by our Regional Representativ
 es\, Ambassadors\, and volunteer hosts all across the country.\n \n \n\nHow
  does it work?\n\nFind a time slot that works for you and make the commitme
 nt to write for that period of time – sometimes simply making the commitmen
 t and setting aside the time to write is the most important step\;Anyone ac
 ross the country can register for any time slot that they would like to - t
 hey are only organized by region to show who will be moderating during that
  period of time\;Complete registration for that time slot\;Prior to the eve
 nt\, you will be sent the Zoom meeting link to attend the silent writing sl
 ot of your choice\;Note: it is important not to login to the Zoom meeting o
 utside of the scheduled meeting times\, or you may disturb another meeting 
 or regional event in progress\;When it’s time\, click on the link to join t
 he Zoom meeting\;The hosting Regional Representative\, Ambassador\, or volu
 nteer host may choose to greet those in attendance briefly and set expectat
 ions for your time together\;You will be asked to mute your microphone\;You
  may leave your camera on for gentle accountability\, or leave it off if th
 at is more comfortable to you\;Once the session has initiated – that’s it! 
 The remainder of the time is dedicated to writing silently in community wit
 h the others that have logged in with you at that time\;You are welcome to 
 use the chat function to reach out to others in the session with you if you
  have any questions\, though it is at the discretion of the other participa
 nts whether or not they choose to respond or take the silent time for thems
 elves.\nMore times and dates will be added as they become available. If you
  would like to volunteer to host a Silent Writing session\, please fill out
  this form.\n\n \n\nJordan Stovall (they/them/theirs)\, Regional Programs M
 anager\n\nFind Out More About the Rep and Ambassador Programs
DTEND:20211023T160000Z
DTSTAMP:20211020T024808Z
DTSTART:20211023T140000Z
LOCATION:
SEQUENCE:0
SUMMARY:Dramatists Guild National Silent Writing
UID:tag:localist.com\,2008:EventInstance_37962259449843
URL:https://events.dramatistsguild.com/event/dramatists_guild_national_sile
 nt_writing_5107
END:VEVENT
END:VCALENDAR
