BEGIN:VCALENDAR
VERSION:2.0
CALSCALE:GREGORIAN
PRODID:iCalendar-Ruby
BEGIN:VEVENT
CATEGORIES:Silent Writing
DESCRIPTION:This session will be moderated by Gulf Coast DG Regional Rep\, 
 Mimi Ayers.\n\n \n\nSunday\, October 10\, 2021\n\nEastern Time: 11:00am\nCe
 ntral Time: 10:00am\nMountain Time: 9:00am\nPacific Time: 8:00am\n\n \n\nFo
 r a list of all other available Silent Writing dates and times\, click here
 .\n\n \n\nIntroducing Dramatists Guild National Silent Writing!\n\nWe under
 stand that writing can feel like a solitary task from time to time\, which 
 may make finding the motivation to write difficult. To assist in this\, sta
 rting September 2021\, the Dramatists Guild is offering online silent writi
 ng sessions available for anyone across the country to drop into at any tim
 e. These sessions will be hosted by our Regional Representatives\, Ambassad
 ors\, and volunteer hosts all across the country.\n \n \n\nHow does it work
 ?\n\nFind a time slot that works for you and make the commitment to write f
 or that period of time – sometimes simply making the commitment and setting
  aside the time to write is the most important step\;Anyone across the coun
 try can register for any time slot that they would like to - they are only 
 organized by region to show who will be moderating during that period of ti
 me\;Complete registration for that time slot\;Prior to the event\, you will
  be sent the Zoom meeting link to attend the silent writing slot of your ch
 oice\;Note: it is important not to login to the Zoom meeting outside of the
  scheduled meeting times\, or you may disturb another meeting or regional e
 vent in progress\;When it’s time\, click on the link to join the Zoom meeti
 ng\;The hosting Regional Representative\, Ambassador\, or volunteer host ma
 y choose to greet those in attendance briefly and set expectations for your
  time together\;You will be asked to mute your microphone\;You may leave yo
 ur camera on for gentle accountability\, or leave it off if that is more co
 mfortable to you\;Once the session has initiated – that’s it! The remainder
  of the time is dedicated to writing silently in community with the others 
 that have logged in with you at that time\;You are welcome to use the chat 
 function to reach out to others in the session with you if you have any que
 stions\, though it is at the discretion of the other participants whether o
 r not they choose to respond or take the silent time for themselves.\nMore 
 times and dates will be added as they become available. If you would like t
 o volunteer to host a Silent Writing session\, please fill out this form.\n
 \n \n\nJordan Stovall (they/them/theirs)\, Regional Programs Manager\n\nFin
 d Out More About the Rep and Ambassador Programs
DTEND:20211010T160000Z
DTSTAMP:20211020T024608Z
DTSTART:20211010T140000Z
LOCATION:
SEQUENCE:0
SUMMARY:Dramatists Guild National Silent Writing
UID:tag:localist.com\,2008:EventInstance_37968766339469
URL:https://events.dramatistsguild.com/event/dramatists_guild_national_sile
 nt_writing_6719
END:VEVENT
END:VCALENDAR
