BEGIN:VCALENDAR
VERSION:2.0
CALSCALE:GREGORIAN
PRODID:iCalendar-Ruby
BEGIN:VEVENT
CATEGORIES:Silent Writing
DESCRIPTION:This session will be moderated by Gulf Coast DG Regional Rep\, 
 Mimi Ayers.\n\n \n\nThursday\, October 7\, 2021\n\nEastern Time: 11:00am\nC
 entral Time: 10:00am\nMountain Time: 9:00am\nPacific Time: 8:00am\n\n \n\nF
 or a list of all other available Silent Writing dates and times\, click her
 e.\n\n \n\nIntroducing Dramatists Guild National Silent Writing!\n\nWe unde
 rstand that writing can feel like a solitary task from time to time\, which
  may make finding the motivation to write difficult. To assist in this\, st
 arting September 2021\, the Dramatists Guild is offering online silent writ
 ing sessions available for anyone across the country to drop into at any ti
 me. These sessions will be hosted by our Regional Representatives\, Ambassa
 dors\, and volunteer hosts all across the country.\n \n \n\nHow does it wor
 k?\n\nFind a time slot that works for you and make the commitment to write 
 for that period of time – sometimes simply making the commitment and settin
 g aside the time to write is the most important step\;Anyone across the cou
 ntry can register for any time slot that they would like to - they are only
  organized by region to show who will be moderating during that period of t
 ime\;Complete registration for that time slot\;Prior to the event\, you wil
 l be sent the Zoom meeting link to attend the silent writing slot of your c
 hoice\;Note: it is important not to login to the Zoom meeting outside of th
 e scheduled meeting times\, or you may disturb another meeting or regional 
 event in progress\;When it’s time\, click on the link to join the Zoom meet
 ing\;The hosting Regional Representative\, Ambassador\, or volunteer host m
 ay choose to greet those in attendance briefly and set expectations for you
 r time together\;You will be asked to mute your microphone\;You may leave y
 our camera on for gentle accountability\, or leave it off if that is more c
 omfortable to you\;Once the session has initiated – that’s it! The remainde
 r of the time is dedicated to writing silently in community with the others
  that have logged in with you at that time\;You are welcome to use the chat
  function to reach out to others in the session with you if you have any qu
 estions\, though it is at the discretion of the other participants whether 
 or not they choose to respond or take the silent time for themselves.\nMore
  times and dates will be added as they become available. If you would like 
 to volunteer to host a Silent Writing session\, please fill out this form.\
 n\n \n\nJordan Stovall (they/them/theirs)\, Regional Programs Manager\n\nFi
 nd Out More About the Rep and Ambassador Programs
DTEND:20211007T160000Z
DTSTAMP:20211020T024524Z
DTSTART:20211007T140000Z
LOCATION:
SEQUENCE:0
SUMMARY:Dramatists Guild National Silent Writing
UID:tag:localist.com\,2008:EventInstance_37968729496959
URL:https://events.dramatistsguild.com/event/dramatists_guild_national_sile
 nt_writing_7175
END:VEVENT
END:VCALENDAR
