BEGIN:VCALENDAR
VERSION:2.0
CALSCALE:GREGORIAN
PRODID:iCalendar-Ruby
BEGIN:VEVENT
CATEGORIES:Actors Fund- Wellness
DESCRIPTION:10:00 am - 11:00 am\n\n \n\nOnline via Zoom\n\n \n\nThis semina
 r will help you understand the Affordable Care Act and give you clear\, ste
 p-by-step guidance on what your Covered California options are and how to g
 et the most affordable coverage. We will provide important information rele
 vant to freelancers and the self-employed. Find out how to re-estimate your
  income after a loss of work\, and whether you’re eligible for free insuran
 ce or subsidies. This is an excellent opportunity for unbiased information.
 \n\n \n\nNote: This is geared towards those living in California. If you li
 ve in NY or NJ\, please sign up for our NY/NJ webinar. If you live in a sta
 te other than NY\, NJ or CA\, you can view our archived Every Artist Insure
 d Nationwide webinar at any time at https://actorsfund.org/services-and-pro
 grams/artists-health-insurance-resource-center (scroll down to "Learn More"
 ). \n\n \n\nRSVP: via Zoom\n\nAttendance Rules: RSVP required via Zoom\n\nC
 ontact Name: Entertainment Health Insurance Solutions\n\nContact Email: ahi
 rchealthreform@actorsfund.org\n\nContact Phone: 833.777.EHIS (3447)\n\nRecu
 rrence: Second Tuesday of every month \n\nFor more information\n\n \n\nDate
 s: \n\nTuesday\, Sep 14\, 2021\, 10:00 am – 11:00 am\n\nTuesday\, Oct 12\, 
 2021\, 10:00 am – 11:00 am\n\nTuesday\, Nov 09\, 2021\, 10:00 am – 11:00 am
 \n\nTuesday\, Dec 14\, 2021\, 10:00 am – 11:00 am
DTEND:20210914T150000Z
DTSTAMP:20211020T024637Z
DTSTART:20210914T140000Z
LOCATION:
SEQUENCE:0
SUMMARY:Every Artist Insured
UID:tag:localist.com\,2008:EventInstance_37783999182243
URL:https://events.dramatistsguild.com/event/every_artist_insured
END:VEVENT
BEGIN:VEVENT
CATEGORIES:Actors Fund- Wellness
DESCRIPTION:10:00 am - 11:00 am\n\n \n\nOnline via Zoom\n\n \n\nThis semina
 r will help you understand the Affordable Care Act and give you clear\, ste
 p-by-step guidance on what your Covered California options are and how to g
 et the most affordable coverage. We will provide important information rele
 vant to freelancers and the self-employed. Find out how to re-estimate your
  income after a loss of work\, and whether you’re eligible for free insuran
 ce or subsidies. This is an excellent opportunity for unbiased information.
 \n\n \n\nNote: This is geared towards those living in California. If you li
 ve in NY or NJ\, please sign up for our NY/NJ webinar. If you live in a sta
 te other than NY\, NJ or CA\, you can view our archived Every Artist Insure
 d Nationwide webinar at any time at https://actorsfund.org/services-and-pro
 grams/artists-health-insurance-resource-center (scroll down to "Learn More"
 ). \n\n \n\nRSVP: via Zoom\n\nAttendance Rules: RSVP required via Zoom\n\nC
 ontact Name: Entertainment Health Insurance Solutions\n\nContact Email: ahi
 rchealthreform@actorsfund.org\n\nContact Phone: 833.777.EHIS (3447)\n\nRecu
 rrence: Second Tuesday of every month \n\nFor more information\n\n \n\nDate
 s: \n\nTuesday\, Sep 14\, 2021\, 10:00 am – 11:00 am\n\nTuesday\, Oct 12\, 
 2021\, 10:00 am – 11:00 am\n\nTuesday\, Nov 09\, 2021\, 10:00 am – 11:00 am
 \n\nTuesday\, Dec 14\, 2021\, 10:00 am – 11:00 am
DTEND:20211012T150000Z
DTSTAMP:20211020T024637Z
DTSTART:20211012T140000Z
LOCATION:
SEQUENCE:0
SUMMARY:Every Artist Insured
UID:tag:localist.com\,2008:EventInstance_37783999184292
URL:https://events.dramatistsguild.com/event/every_artist_insured
END:VEVENT
BEGIN:VEVENT
CATEGORIES:Actors Fund- Wellness
DESCRIPTION:10:00 am - 11:00 am\n\n \n\nOnline via Zoom\n\n \n\nThis semina
 r will help you understand the Affordable Care Act and give you clear\, ste
 p-by-step guidance on what your Covered California options are and how to g
 et the most affordable coverage. We will provide important information rele
 vant to freelancers and the self-employed. Find out how to re-estimate your
  income after a loss of work\, and whether you’re eligible for free insuran
 ce or subsidies. This is an excellent opportunity for unbiased information.
 \n\n \n\nNote: This is geared towards those living in California. If you li
 ve in NY or NJ\, please sign up for our NY/NJ webinar. If you live in a sta
 te other than NY\, NJ or CA\, you can view our archived Every Artist Insure
 d Nationwide webinar at any time at https://actorsfund.org/services-and-pro
 grams/artists-health-insurance-resource-center (scroll down to "Learn More"
 ). \n\n \n\nRSVP: via Zoom\n\nAttendance Rules: RSVP required via Zoom\n\nC
 ontact Name: Entertainment Health Insurance Solutions\n\nContact Email: ahi
 rchealthreform@actorsfund.org\n\nContact Phone: 833.777.EHIS (3447)\n\nRecu
 rrence: Second Tuesday of every month \n\nFor more information\n\n \n\nDate
 s: \n\nTuesday\, Sep 14\, 2021\, 10:00 am – 11:00 am\n\nTuesday\, Oct 12\, 
 2021\, 10:00 am – 11:00 am\n\nTuesday\, Nov 09\, 2021\, 10:00 am – 11:00 am
 \n\nTuesday\, Dec 14\, 2021\, 10:00 am – 11:00 am
DTEND:20211109T160000Z
DTSTAMP:20211020T024637Z
DTSTART:20211109T150000Z
LOCATION:
SEQUENCE:0
SUMMARY:Every Artist Insured
UID:tag:localist.com\,2008:EventInstance_37783999185317
URL:https://events.dramatistsguild.com/event/every_artist_insured
END:VEVENT
BEGIN:VEVENT
CATEGORIES:Actors Fund- Wellness
DESCRIPTION:10:00 am - 11:00 am\n\n \n\nOnline via Zoom\n\n \n\nThis semina
 r will help you understand the Affordable Care Act and give you clear\, ste
 p-by-step guidance on what your Covered California options are and how to g
 et the most affordable coverage. We will provide important information rele
 vant to freelancers and the self-employed. Find out how to re-estimate your
  income after a loss of work\, and whether you’re eligible for free insuran
 ce or subsidies. This is an excellent opportunity for unbiased information.
 \n\n \n\nNote: This is geared towards those living in California. If you li
 ve in NY or NJ\, please sign up for our NY/NJ webinar. If you live in a sta
 te other than NY\, NJ or CA\, you can view our archived Every Artist Insure
 d Nationwide webinar at any time at https://actorsfund.org/services-and-pro
 grams/artists-health-insurance-resource-center (scroll down to "Learn More"
 ). \n\n \n\nRSVP: via Zoom\n\nAttendance Rules: RSVP required via Zoom\n\nC
 ontact Name: Entertainment Health Insurance Solutions\n\nContact Email: ahi
 rchealthreform@actorsfund.org\n\nContact Phone: 833.777.EHIS (3447)\n\nRecu
 rrence: Second Tuesday of every month \n\nFor more information\n\n \n\nDate
 s: \n\nTuesday\, Sep 14\, 2021\, 10:00 am – 11:00 am\n\nTuesday\, Oct 12\, 
 2021\, 10:00 am – 11:00 am\n\nTuesday\, Nov 09\, 2021\, 10:00 am – 11:00 am
 \n\nTuesday\, Dec 14\, 2021\, 10:00 am – 11:00 am
DTEND:20211214T160000Z
DTSTAMP:20211020T024637Z
DTSTART:20211214T150000Z
LOCATION:
SEQUENCE:0
SUMMARY:Every Artist Insured
UID:tag:localist.com\,2008:EventInstance_37783999186342
URL:https://events.dramatistsguild.com/event/every_artist_insured
END:VEVENT
END:VCALENDAR
