BEGIN:VCALENDAR
VERSION:2.0
CALSCALE:GREGORIAN
PRODID:iCalendar-Ruby
BEGIN:VEVENT
CATEGORIES:Actors Fund- Wellness
DESCRIPTION:Workshop Hours: 10:00am - 12:00pm PT / 12:00pm - 2:00pm CT / 1:
 00pm - 3:00pm ET\n\n \n\nPREREQUISITE: Must have attended The Career Center
  Orientation | Weekly on Mondays & Thursdays\n\n \n\nDo you need help figur
 ing out how to look for work during the current crisis? Are you wondering h
 ow to stay focused on your long term career goals when there is a hiring fr
 eeze? If so\, please join us for the How to Job Search During a Pandemic wo
 rkshop.\n\n \n\nIn Part Two of Job Search During a Pandemic you will:\n\nDi
 scuss how to manage job market uncertaintyExplore how to search for remote 
 or currently hiring positionsDiscover how to keep your long term job search
  active during the slow down  \n\nPlease Note: This workshop series is not 
 sequential. Participants can take Parts 1 and 2 in any order. For more info
 rmation on Part 1\, click here. \n\n \n\nRSVP: Zoom Registration\n\nLOCATIO
 N: \n\nVia Zoom\, an online video conferencing system that we will be using
  for class. You will need a device with internet connectivity to participat
 e (a headset or earphones with a mic are recommended\, though not required)
 .\n\n \n\nATTENDANCE RULES: \n\nClass will begin at the scheduled time\, so
  please be prompt. Log in a few minutes early to ensure your device is oper
 ational. \n\n \n\nCONTACT NAME: LeChae Mottley\n\nCONTACT EMAIL: lmottley@a
 ctorsfund.org\n\n \n\nRECURRENCE: \n\nOffered the 2nd Tuesday of every mont
 h.\n\n \n\nDATES: \n\nTuesday\, Sep 14\, 2021\, 10:00 am – 12:00 pm\n\nTues
 day\, Oct 12\, 2021\, 10:00 am – 12:00 pm\n\nTuesday\, Nov 09\, 2021\, 10:0
 0 am – 12:00 pm
DTEND:20210914T160000Z
DTSTAMP:20211020T024643Z
DTSTART:20210914T140000Z
LOCATION:
SEQUENCE:0
SUMMARY:How to Job Search During a Pandemic\, Part 2
UID:tag:localist.com\,2008:EventInstance_37784653174671
URL:https://events.dramatistsguild.com/event/how_to_job_search_during_a_pan
 demic_part_2
END:VEVENT
BEGIN:VEVENT
CATEGORIES:Actors Fund- Wellness
DESCRIPTION:Workshop Hours: 10:00am - 12:00pm PT / 12:00pm - 2:00pm CT / 1:
 00pm - 3:00pm ET\n\n \n\nPREREQUISITE: Must have attended The Career Center
  Orientation | Weekly on Mondays & Thursdays\n\n \n\nDo you need help figur
 ing out how to look for work during the current crisis? Are you wondering h
 ow to stay focused on your long term career goals when there is a hiring fr
 eeze? If so\, please join us for the How to Job Search During a Pandemic wo
 rkshop.\n\n \n\nIn Part Two of Job Search During a Pandemic you will:\n\nDi
 scuss how to manage job market uncertaintyExplore how to search for remote 
 or currently hiring positionsDiscover how to keep your long term job search
  active during the slow down  \n\nPlease Note: This workshop series is not 
 sequential. Participants can take Parts 1 and 2 in any order. For more info
 rmation on Part 1\, click here. \n\n \n\nRSVP: Zoom Registration\n\nLOCATIO
 N: \n\nVia Zoom\, an online video conferencing system that we will be using
  for class. You will need a device with internet connectivity to participat
 e (a headset or earphones with a mic are recommended\, though not required)
 .\n\n \n\nATTENDANCE RULES: \n\nClass will begin at the scheduled time\, so
  please be prompt. Log in a few minutes early to ensure your device is oper
 ational. \n\n \n\nCONTACT NAME: LeChae Mottley\n\nCONTACT EMAIL: lmottley@a
 ctorsfund.org\n\n \n\nRECURRENCE: \n\nOffered the 2nd Tuesday of every mont
 h.\n\n \n\nDATES: \n\nTuesday\, Sep 14\, 2021\, 10:00 am – 12:00 pm\n\nTues
 day\, Oct 12\, 2021\, 10:00 am – 12:00 pm\n\nTuesday\, Nov 09\, 2021\, 10:0
 0 am – 12:00 pm
DTEND:20211012T160000Z
DTSTAMP:20211020T024643Z
DTSTART:20211012T140000Z
LOCATION:
SEQUENCE:0
SUMMARY:How to Job Search During a Pandemic\, Part 2
UID:tag:localist.com\,2008:EventInstance_37784653175696
URL:https://events.dramatistsguild.com/event/how_to_job_search_during_a_pan
 demic_part_2
END:VEVENT
BEGIN:VEVENT
CATEGORIES:Actors Fund- Wellness
DESCRIPTION:Workshop Hours: 10:00am - 12:00pm PT / 12:00pm - 2:00pm CT / 1:
 00pm - 3:00pm ET\n\n \n\nPREREQUISITE: Must have attended The Career Center
  Orientation | Weekly on Mondays & Thursdays\n\n \n\nDo you need help figur
 ing out how to look for work during the current crisis? Are you wondering h
 ow to stay focused on your long term career goals when there is a hiring fr
 eeze? If so\, please join us for the How to Job Search During a Pandemic wo
 rkshop.\n\n \n\nIn Part Two of Job Search During a Pandemic you will:\n\nDi
 scuss how to manage job market uncertaintyExplore how to search for remote 
 or currently hiring positionsDiscover how to keep your long term job search
  active during the slow down  \n\nPlease Note: This workshop series is not 
 sequential. Participants can take Parts 1 and 2 in any order. For more info
 rmation on Part 1\, click here. \n\n \n\nRSVP: Zoom Registration\n\nLOCATIO
 N: \n\nVia Zoom\, an online video conferencing system that we will be using
  for class. You will need a device with internet connectivity to participat
 e (a headset or earphones with a mic are recommended\, though not required)
 .\n\n \n\nATTENDANCE RULES: \n\nClass will begin at the scheduled time\, so
  please be prompt. Log in a few minutes early to ensure your device is oper
 ational. \n\n \n\nCONTACT NAME: LeChae Mottley\n\nCONTACT EMAIL: lmottley@a
 ctorsfund.org\n\n \n\nRECURRENCE: \n\nOffered the 2nd Tuesday of every mont
 h.\n\n \n\nDATES: \n\nTuesday\, Sep 14\, 2021\, 10:00 am – 12:00 pm\n\nTues
 day\, Oct 12\, 2021\, 10:00 am – 12:00 pm\n\nTuesday\, Nov 09\, 2021\, 10:0
 0 am – 12:00 pm
DTEND:20211109T170000Z
DTSTAMP:20211020T024643Z
DTSTART:20211109T150000Z
LOCATION:
SEQUENCE:0
SUMMARY:How to Job Search During a Pandemic\, Part 2
UID:tag:localist.com\,2008:EventInstance_37784653177745
URL:https://events.dramatistsguild.com/event/how_to_job_search_during_a_pan
 demic_part_2
END:VEVENT
END:VCALENDAR
