BEGIN:VCALENDAR
VERSION:2.0
CALSCALE:GREGORIAN
PRODID:iCalendar-Ruby
BEGIN:VEVENT
CATEGORIES:Financial Literacy
DESCRIPTION:New York State artists! Here's a chance to learn about funding 
 in our state! Join community leaders and representatives from NY state base
 d arts funding organizations for an important roundtable conversation about
  the current climate of grant funding. The discussion will focus on - how t
 o seek funding opportunities\, what grantors look for in applicants\, and r
 egional resources available to individual artists.  This event is free and 
 open for all DG members in good standing that are full-time residents of Ne
 w York State (excluding NYC). \n\n \n\nModerated by Brittany Proia\, Easter
 n New York Ambassador (she/her/hers).\n\n\n\nPanelists:\n\nLilia Peréz\, Ar
 ts Mid-Hudson\n\nSusan Abbott\, Arts Westchester\n\nMerritt Minnemeyer\, PC
 C\, ELI-MP\, Master of One Coaching\n\nCharlie Owens\, Saratoga Arts\n\n \n
 \nDominic D'Andrea\, New York State Regional Rep (he/him/his)\nLesley Green
 e\, Central New York Ambassador (she/her/hers)\nDonna Hoke\, Western New Yo
 rk Ambassador (she/her/hers)\nBrittany Proia\, Eastern New York Ambassador 
 (she/her/hers)\nContact Your Local Rep or Ambasssador\n\n \n\nPlease note: 
 this event will be streamed on the internet and archived by audiovisual rec
 ording. By your presence at this event\, you acknowledge that you have been
  informed that you may be photographed\, recorded\, transcribed\, and strea
 med as a part of this event. Further\, by your presence here\, you grant yo
 ur irrevocable permission for your likeness and voice to be included withou
 t compensation and/or credit\, and for such event or other programs to be e
 xploited in any and all media worldwide in perpetuity. If you do not wish t
 o be photographed\, recorded\, or appear in the stream or archive of this e
 vent\, you should not enter.\n\n \n\nThe Dramatists Guild office in New Yor
 k City sits on the Wickquasgeck trail (eventually renamed Broadway by the c
 olonists who stole it) and the traditional\, ancestral\, unceded territory 
 of the Lenape.
DTEND:20211028T173000Z
DTSTAMP:20211021T153623Z
DTSTART:20211028T160000Z
LOCATION:
SEQUENCE:0
SUMMARY:NEW YORK STATE: Hudson Valley and Capitol Region Funding Roundtable
UID:tag:localist.com\,2008:EventInstance_37953983398288
URL:https://events.dramatistsguild.com/event/hudson_valley_capitol_region_f
 unding_roundtable
END:VEVENT
END:VCALENDAR
