BEGIN:VCALENDAR
VERSION:2.0
CALSCALE:GREGORIAN
PRODID:iCalendar-Ruby
BEGIN:VEVENT
CATEGORIES:Actors Fund- Financial
DESCRIPTION:Workshop Hours: 5:00pm - 7:00pm ET / 4:00pm - 6:00pm CT / 2:00p
 m - 4:00pm PT\n\n \n\nGetting started with investing does not have to be in
 timidating–and it’s definitely not just for the wealthy! Join Financial Wel
 lness Counselor Rebecca Selkowe\, J.D.\, AFC®\, and David Maurice Sharp\, a
 uthor of The Thriving Artist\, for this informative and engaging webinar sp
 ecifically designed for creative professionals.\n\n \n\nIn Part 1 of this w
 ebinar\, you will learn the elements of a sound financial plan\, including 
 assessing your comfort level with risk\, the basics of different types of i
 nvestments and ideas for creating a portfolio with limited and varying inco
 me.In Part 2 of this webinar\, we will explore the pieces that comprise our
  later-life financial resources\, including individual retirement accounts\
 , social security income and Union pensions.  \n\nPart 1 and Part 2 may be 
 attended in either order. Attendance at both parts is recommended but not r
 equired. View upcoming offerings of both parts here.\n\n \n\nDemystify the 
 jargon and understand how to begin (or continue!) to integrate wealth-build
 ing into your financial life. We will also cover what you need to know abou
 t investing amid the Covid-19 crisis.\n\n \n\n***This 2 hour event begins a
 t 5:00 pm ET / 4:00 pm CT / 2:00 pm PT. Be sure to verify your time zone! T
 he presenters are based in NYC but this event is offered nationally.***\n\n
  \n\nRSVP: via Eventbrite\n\nPREREQUISITE: None.\n\n \n\nLOCATION: \n\nThis
  is an online event. Participants must register through Eventbrite to recei
 ve instructions for joining the webinar.\n\n \n\nATTENDANCE RULES: No drop-
 ins\; register via Eventbrite.\n\nCONTACT NAME: Rebecca Selkowe\n\nCONTACT 
 EMAIL: rselkowe@actorsfund.org\n\n \n\nRECURRENCE: \n\nEither Part 1 or Par
 t 2 is offered each month\; check calendar for dates\n\n \n\nDATES: \n\nTue
 sday\, Oct 19\, 2021\, 5:00 pm – 7:00 pm
DTEND:20211019T220000Z
DTSTAMP:20211020T024749Z
DTSTART:20211019T210000Z
LOCATION:
SEQUENCE:0
SUMMARY:Money Matters: Investing Basics for Creative Professionals Part 1
UID:tag:localist.com\,2008:EventInstance_37995875944415
URL:https://events.dramatistsguild.com/event/money_matters_investing_basics
 _for_creative_professionals_part_1
END:VEVENT
END:VCALENDAR
