BEGIN:VCALENDAR
VERSION:2.0
CALSCALE:GREGORIAN
PRODID:iCalendar-Ruby
BEGIN:VEVENT
CATEGORIES:Actors Fund- Financial
DESCRIPTION:Getting started with investing does not have to be intimidating
 –and it’s definitely not just for the wealthy! Join Financial Wellness Coun
 selor Rebecca Selkowe\, J.D.\, AFC®\, and David Maurice Sharp\, author of T
 he Thriving Artist\, for this informative and engaging webinar specifically
  designed for creative professionals.\n\n \n\nIn Part 1 of this webinar\, y
 ou will learn the elements of a sound financial plan\, including assessing 
 your comfort level with risk\, the basics of different types of investments
 \, and ideas for creating a portfolio with limited and varying income.\n\nI
 n Part 2 of this webinar\, we will explore the pieces that comprise our lat
 er-life financial resources\, including individual retirement accounts\, so
 cial security income and Union pensions. \n\n \n\nDemystify the jargon and 
 understand how to begin (or continue!) to integrate wealth-building into yo
 ur financial life. We will also cover what you need to know about investing
  amid the Covid-19 crisis.\n\n \n\nHelpful Info:\n\nBe sure to adjust for y
 our time zone! The webinar presenters are based in NYC\, but this event is 
 offered nationally.Part 1 and Part 2 may be attended in either order. Atten
 dance at both parts is recommended but not required. View upcoming offering
 s of both parts here.This event is open only to performing artists and ente
 rtainment industry professionals.Registrants will receive instructions for 
 joining the webinar approximately one (1) hour prior to the event start tim
 e. \n\nAbout The Actors Fund\n\nThe Actors Fund is a national human service
 s organization that fosters stability and resiliency\, and provides a safet
 y net for performing arts and entertainment professionals over their lifesp
 an. Through offices in New York\, Los Angeles and Chicago\, The Fund serves
  everyone in film\, theater\, television\, music\, opera\, radio and dance 
 with programs including social services and emergency financial assistance\
 , health care and insurance counseling\, housing\, and secondary employment
  and training services.\n\n \n\nAbout the Financial Wellness Program\n\nThe
  Actors Fund Financial Wellness Program seeks to engage\, educate and empow
 er performing arts and entertainment professionals about the role of money 
 in their lives. Our live workshops support participants with variable\, mul
 tiple and episodic streams of income in identifying financial goals\, devel
 oping skills and strategies for organizing expenses and income\, beginning 
 to engage in the world of investing\, and gaining clarity around debt manag
 ement and potential repayment and relief options. Through our services\, pe
 rforming arts and entertainment professionals learn to examine the behavior
 s and thinking patterns that impact their financial habits and begin to ali
 gn their actions and intentions\, increasing their financial stability and 
 overall career and life satisfaction.
DTEND:20211108T230000Z
DTSTAMP:20211020T024916Z
DTSTART:20211108T220000Z
LOCATION:
SEQUENCE:0
SUMMARY:Money Matters: Investing Basics for Creative Professionals Part 2
UID:tag:localist.com\,2008:EventInstance_37995894498735
URL:https://events.dramatistsguild.com/event/money_matters_investing_basics
 _for_creative_professionals_part_2
END:VEVENT
END:VCALENDAR
