BEGIN:VCALENDAR
VERSION:2.0
CALSCALE:GREGORIAN
PRODID:iCalendar-Ruby
BEGIN:VEVENT
CATEGORIES:Actors Fund- Career
DESCRIPTION: Please Note your time zone:\n10 am -11 am (PT)\n11 am - Noon (
 MT)\nNoon - 1 pm (CT)\n1 pm - 2 pm (ET)\n\n \n\nThe Actors Fund offers reso
 urces to dancers at every age and stage of their career.  Our national prog
 ram enables dancers from all disciplines to define their own career possibi
 lities and to develop the skills necessary to manage their careers within d
 ance\, and when needed\, outside of dance.  \n\n \n\n  We help dancers:  \n
 \nTo explore and expand employment\, entrepreneurial & supplemental income 
 streams to help them thrive at every stage of their dance career   \n\nTo p
 ursue training in a new field through Career Transition For Dancers (CTFD) 
 scholarships for certification\, undergraduate and/or graduate-level degree
  programs \n\nTo sustain mind/body wellness through mental health services\
 , health insurance guidance and support groups for dancers   \n\nTo cover t
 he cost of basic living expenses during challenging times through COVID Rel
 ief grants   \n\n \n\nTo register for a National Dancer Info Session on the
  4th Thursday of the month at 10am PST/11am MST/12pm CST/1pm EST\, click HE
 RE\n\nRSVP: via Zoom\n\nLOCATION: Zoom Meeting\n\nCONTACT NAME: Sophia Koza
 k\n\nCONTACT EMAIL: skozak@actorsfund.org\n\n \n\nRECURRENCE: Second and Fo
 urth Thursdays - 10 am PT/Noon CT/1 pm ET\n\n \n\nDATES: \n\nThursday\, Oct
  14\, 2021\, 10:00 am – 11:00 am\n\nThursday\, Nov 11\, 2021\, 10:00 am – 1
 1:00 am\n\nThursday\, Dec 09\, 2021\, 10:00 am – 11:00 am
DTEND:20211014T150000Z
DTSTAMP:20211020T024708Z
DTSTART:20211014T140000Z
LOCATION:
SEQUENCE:0
SUMMARY:National Dancer Info Session
UID:tag:localist.com\,2008:EventInstance_37784199480802
URL:https://events.dramatistsguild.com/event/national_dancer_info_session
END:VEVENT
BEGIN:VEVENT
CATEGORIES:Actors Fund- Career
DESCRIPTION: Please Note your time zone:\n10 am -11 am (PT)\n11 am - Noon (
 MT)\nNoon - 1 pm (CT)\n1 pm - 2 pm (ET)\n\n \n\nThe Actors Fund offers reso
 urces to dancers at every age and stage of their career.  Our national prog
 ram enables dancers from all disciplines to define their own career possibi
 lities and to develop the skills necessary to manage their careers within d
 ance\, and when needed\, outside of dance.  \n\n \n\n  We help dancers:  \n
 \nTo explore and expand employment\, entrepreneurial & supplemental income 
 streams to help them thrive at every stage of their dance career   \n\nTo p
 ursue training in a new field through Career Transition For Dancers (CTFD) 
 scholarships for certification\, undergraduate and/or graduate-level degree
  programs \n\nTo sustain mind/body wellness through mental health services\
 , health insurance guidance and support groups for dancers   \n\nTo cover t
 he cost of basic living expenses during challenging times through COVID Rel
 ief grants   \n\n \n\nTo register for a National Dancer Info Session on the
  4th Thursday of the month at 10am PST/11am MST/12pm CST/1pm EST\, click HE
 RE\n\nRSVP: via Zoom\n\nLOCATION: Zoom Meeting\n\nCONTACT NAME: Sophia Koza
 k\n\nCONTACT EMAIL: skozak@actorsfund.org\n\n \n\nRECURRENCE: Second and Fo
 urth Thursdays - 10 am PT/Noon CT/1 pm ET\n\n \n\nDATES: \n\nThursday\, Oct
  14\, 2021\, 10:00 am – 11:00 am\n\nThursday\, Nov 11\, 2021\, 10:00 am – 1
 1:00 am\n\nThursday\, Dec 09\, 2021\, 10:00 am – 11:00 am
DTEND:20211111T160000Z
DTSTAMP:20211020T024708Z
DTSTART:20211111T150000Z
LOCATION:
SEQUENCE:0
SUMMARY:National Dancer Info Session
UID:tag:localist.com\,2008:EventInstance_37784199482851
URL:https://events.dramatistsguild.com/event/national_dancer_info_session
END:VEVENT
BEGIN:VEVENT
CATEGORIES:Actors Fund- Career
DESCRIPTION: Please Note your time zone:\n10 am -11 am (PT)\n11 am - Noon (
 MT)\nNoon - 1 pm (CT)\n1 pm - 2 pm (ET)\n\n \n\nThe Actors Fund offers reso
 urces to dancers at every age and stage of their career.  Our national prog
 ram enables dancers from all disciplines to define their own career possibi
 lities and to develop the skills necessary to manage their careers within d
 ance\, and when needed\, outside of dance.  \n\n \n\n  We help dancers:  \n
 \nTo explore and expand employment\, entrepreneurial & supplemental income 
 streams to help them thrive at every stage of their dance career   \n\nTo p
 ursue training in a new field through Career Transition For Dancers (CTFD) 
 scholarships for certification\, undergraduate and/or graduate-level degree
  programs \n\nTo sustain mind/body wellness through mental health services\
 , health insurance guidance and support groups for dancers   \n\nTo cover t
 he cost of basic living expenses during challenging times through COVID Rel
 ief grants   \n\n \n\nTo register for a National Dancer Info Session on the
  4th Thursday of the month at 10am PST/11am MST/12pm CST/1pm EST\, click HE
 RE\n\nRSVP: via Zoom\n\nLOCATION: Zoom Meeting\n\nCONTACT NAME: Sophia Koza
 k\n\nCONTACT EMAIL: skozak@actorsfund.org\n\n \n\nRECURRENCE: Second and Fo
 urth Thursdays - 10 am PT/Noon CT/1 pm ET\n\n \n\nDATES: \n\nThursday\, Oct
  14\, 2021\, 10:00 am – 11:00 am\n\nThursday\, Nov 11\, 2021\, 10:00 am – 1
 1:00 am\n\nThursday\, Dec 09\, 2021\, 10:00 am – 11:00 am
DTEND:20211209T160000Z
DTSTAMP:20211020T024708Z
DTSTART:20211209T150000Z
LOCATION:
SEQUENCE:0
SUMMARY:National Dancer Info Session
UID:tag:localist.com\,2008:EventInstance_37784199483876
URL:https://events.dramatistsguild.com/event/national_dancer_info_session
END:VEVENT
END:VCALENDAR
