BEGIN:VCALENDAR
VERSION:2.0
CALSCALE:GREGORIAN
PRODID:iCalendar-Ruby
BEGIN:VEVENT
CATEGORIES:Actors Fund- Wellness
DESCRIPTION:NYC has launched a NEW website for applying for affordable hous
 ing lotteries and re-rentals. Learn everything you need to know about 2.0.\
 n\n \n\n All new affordable housing opportunities are available on a new ve
 rsion of NYC Housing Connect. If you had an account on the original NYC Hou
 sing Connect\, your applicant profile will not be carried over to the new w
 ebsite. Users will need to create a brand new profile to apply. This new we
 binar will help applicants navigate the new system\, understand changes to 
 the process and show you how to set up a new profile. If you haven't alread
 y\, we recommend that you participate in our Applying for Affordable Housin
 g webinar as a prerequisite. We hope to make the transition from the origin
 al to the new NYC Housing Connect as easy as possible.\n\n \n\nRSVP: Eventb
 rite \n\nTuesday\, Sep 21\, 2021\, 3:30 pm – 5:00 pm\n\nTuesday\, Oct 19\, 
 2021\, 3:30 pm – 5:00 pm\n\nTuesday\, Nov 16\, 2021\, 3:30 pm – 5:00 pm\n\n
 Tuesday\, Dec 21\, 2021\, 3:30 pm – 5:00 pm
DTEND:20211019T210000Z
DTSTAMP:20211020T024746Z
DTSTART:20211019T193000Z
LOCATION:
SEQUENCE:0
SUMMARY:NYC Housing Connect 2.0 Tutorial
UID:tag:localist.com\,2008:EventInstance_37784241856919
URL:https://events.dramatistsguild.com/event/nyc_housing_connect_20_tutoria
 l
END:VEVENT
BEGIN:VEVENT
CATEGORIES:Actors Fund- Wellness
DESCRIPTION:NYC has launched a NEW website for applying for affordable hous
 ing lotteries and re-rentals. Learn everything you need to know about 2.0.\
 n\n \n\n All new affordable housing opportunities are available on a new ve
 rsion of NYC Housing Connect. If you had an account on the original NYC Hou
 sing Connect\, your applicant profile will not be carried over to the new w
 ebsite. Users will need to create a brand new profile to apply. This new we
 binar will help applicants navigate the new system\, understand changes to 
 the process and show you how to set up a new profile. If you haven't alread
 y\, we recommend that you participate in our Applying for Affordable Housin
 g webinar as a prerequisite. We hope to make the transition from the origin
 al to the new NYC Housing Connect as easy as possible.\n\n \n\nRSVP: Eventb
 rite \n\nTuesday\, Sep 21\, 2021\, 3:30 pm – 5:00 pm\n\nTuesday\, Oct 19\, 
 2021\, 3:30 pm – 5:00 pm\n\nTuesday\, Nov 16\, 2021\, 3:30 pm – 5:00 pm\n\n
 Tuesday\, Dec 21\, 2021\, 3:30 pm – 5:00 pm
DTEND:20211116T220000Z
DTSTAMP:20211020T024746Z
DTSTART:20211116T203000Z
LOCATION:
SEQUENCE:0
SUMMARY:NYC Housing Connect 2.0 Tutorial
UID:tag:localist.com\,2008:EventInstance_37784241858968
URL:https://events.dramatistsguild.com/event/nyc_housing_connect_20_tutoria
 l
END:VEVENT
BEGIN:VEVENT
CATEGORIES:Actors Fund- Wellness
DESCRIPTION:NYC has launched a NEW website for applying for affordable hous
 ing lotteries and re-rentals. Learn everything you need to know about 2.0.\
 n\n \n\n All new affordable housing opportunities are available on a new ve
 rsion of NYC Housing Connect. If you had an account on the original NYC Hou
 sing Connect\, your applicant profile will not be carried over to the new w
 ebsite. Users will need to create a brand new profile to apply. This new we
 binar will help applicants navigate the new system\, understand changes to 
 the process and show you how to set up a new profile. If you haven't alread
 y\, we recommend that you participate in our Applying for Affordable Housin
 g webinar as a prerequisite. We hope to make the transition from the origin
 al to the new NYC Housing Connect as easy as possible.\n\n \n\nRSVP: Eventb
 rite \n\nTuesday\, Sep 21\, 2021\, 3:30 pm – 5:00 pm\n\nTuesday\, Oct 19\, 
 2021\, 3:30 pm – 5:00 pm\n\nTuesday\, Nov 16\, 2021\, 3:30 pm – 5:00 pm\n\n
 Tuesday\, Dec 21\, 2021\, 3:30 pm – 5:00 pm
DTEND:20211221T220000Z
DTSTAMP:20211020T024746Z
DTSTART:20211221T203000Z
LOCATION:
SEQUENCE:0
SUMMARY:NYC Housing Connect 2.0 Tutorial
UID:tag:localist.com\,2008:EventInstance_37784241859993
URL:https://events.dramatistsguild.com/event/nyc_housing_connect_20_tutoria
 l
END:VEVENT
END:VCALENDAR
