BEGIN:VCALENDAR
VERSION:2.0
CALSCALE:GREGORIAN
PRODID:iCalendar-Ruby
BEGIN:VEVENT
CATEGORIES:Community Organizing,Networking
DESCRIPTION:Join DG Ambassadors for San Diego in an informal meeting for Sa
 n Diego area dramatists to connect and discuss what they would like to see 
 in the future as a dramatist.\n\n \n\nThis event is free and open for all d
 ramatists living and working in the San Diego region to attend.\n\n \n\nAle
 ta Barthell\, San Diego Ambassador (she/her/hers)\nThelma Virata de Castro\
 , San Diego Ambassador (she/her/hers)\nJoin the DG Southern California Regi
 on FB group\nContact your Rep/Ambassador
DTEND:20211107T223000Z
DTSTAMP:20211020T024856Z
DTSTART:20211107T210000Z
LOCATION:
SEQUENCE:0
SUMMARY:CALIFORNIA SOUTH: San Diego Coffee Chat
UID:tag:localist.com\,2008:EventInstance_37933736920724
URL:https://events.dramatistsguild.com/event/san_diego_coffee_chat
END:VEVENT
END:VCALENDAR
