BEGIN:VCALENDAR
VERSION:2.0
CALSCALE:GREGORIAN
PRODID:iCalendar-Ruby
BEGIN:VEVENT
CATEGORIES:Career Training
DESCRIPTION:Eastern Time: 6:30pm - 8pm\nCentral Time: 5:30pm - 7pm\nMountai
 n Time: 4:30pm - 6pm\nPacific Time: 3:30pm - 5pm\n\n\nCo-Facilitators: Todd
  London\, Emily Mann\n\n\nPanelists: \n\nNikkole Salter\n\nJonathan McCrory
 - Executive Artistic Director\, National Black Theatre\n\nJonathan Silverst
 ein- Artistic Director\, Keen Theater Company\n \n\nUsing The Art of Negoti
 ating Contracts guide as a springboard\, panelists will share personal anec
 dotes of tricky\, diversity-related conversations/experiences they've had w
 ith collaborators. The discussion will be followed by interactive role-play
  to give participants the practice they need to effectively negotiate. Ther
 e will also be a Q&A. Visit www.dramatistsguild.com/inclusion to learn more
 .
DTSTAMP:20211020T024624Z
DTSTART;VALUE=DATE:20211012
LOCATION:
SEQUENCE:0
SUMMARY:How to Advocate for Inclusion in Person
UID:tag:localist.com\,2008:EventInstance_37944095015232
URL:https://events.dramatistsguild.com/event/starting_the_convo_how_to_advo
 cate_for_inclusion_in_person
END:VEVENT
END:VCALENDAR
